BEGIN:VCALENDAR
VERSION:2.0
PRODID:-//Valcoop - ECPv6.15.20//NONSGML v1.0//EN
CALSCALE:GREGORIAN
METHOD:PUBLISH
X-WR-CALNAME:Valcoop
X-ORIGINAL-URL:https://www.valcoop.fr
X-WR-CALDESC:Évènements pour Valcoop
REFRESH-INTERVAL;VALUE=DURATION:PT1H
X-Robots-Tag:noindex
X-PUBLISHED-TTL:PT1H
BEGIN:VTIMEZONE
TZID:Europe/Paris
BEGIN:DAYLIGHT
TZOFFSETFROM:+0100
TZOFFSETTO:+0200
TZNAME:CEST
DTSTART:20240331T010000
END:DAYLIGHT
BEGIN:STANDARD
TZOFFSETFROM:+0200
TZOFFSETTO:+0100
TZNAME:CET
DTSTART:20241027T010000
END:STANDARD
BEGIN:DAYLIGHT
TZOFFSETFROM:+0100
TZOFFSETTO:+0200
TZNAME:CEST
DTSTART:20250330T010000
END:DAYLIGHT
BEGIN:STANDARD
TZOFFSETFROM:+0200
TZOFFSETTO:+0100
TZNAME:CET
DTSTART:20251026T010000
END:STANDARD
BEGIN:DAYLIGHT
TZOFFSETFROM:+0100
TZOFFSETTO:+0200
TZNAME:CEST
DTSTART:20260329T010000
END:DAYLIGHT
BEGIN:STANDARD
TZOFFSETFROM:+0200
TZOFFSETTO:+0100
TZNAME:CET
DTSTART:20261025T010000
END:STANDARD
BEGIN:DAYLIGHT
TZOFFSETFROM:+0100
TZOFFSETTO:+0200
TZNAME:CEST
DTSTART:20270328T010000
END:DAYLIGHT
BEGIN:STANDARD
TZOFFSETFROM:+0200
TZOFFSETTO:+0100
TZNAME:CET
DTSTART:20271031T010000
END:STANDARD
END:VTIMEZONE
BEGIN:VEVENT
DTSTART;TZID=Europe/Paris:20260117T100000
DTEND;TZID=Europe/Paris:20260117T160000
DTSTAMP:20260421T193504
CREATED:20260117T090015Z
LAST-MODIFIED:20260101T205733Z
UID:5458-1768644000-1768665600@www.valcoop.fr
SUMMARY:17 anvier journée porte ouverte et inauguration
DESCRIPTION:Le 17 janvier Valcoop organise une journée porte ouverte de 10H à 16H suivi de l’inauguration à 16H30 avec les élus. \n\n\n\n \n\n\n\nhttps://www.valcoop.fr/bonne-annee-2026/
URL:https://www.valcoop.fr/agenda/17-anvier-journee-porte-ouverte-et-inauguration-du-magasin-de-lognes/
LOCATION:Coopérative VALCOOP 15 Rue du Village\, 77185 Lognes\, 15 rue du village\, LOGNES\, 77185
ATTACH;FMTTYPE=image/png:https://www.valcoop.fr/wp-content/uploads/2026/01/Capture-decran-2026-01-01-192914.png
END:VEVENT
BEGIN:VEVENT
DTSTART;TZID=Europe/Paris:20251121T000000
DTEND;TZID=Europe/Paris:20251121T235959
DTSTAMP:20260421T193504
CREATED:20251130T185523Z
LAST-MODIFIED:20251130T185636Z
UID:5437-1763683200-1763769599@www.valcoop.fr
SUMMARY:Ouverture totale de Valcoop au public extérieur officielle depuis le 21 novembre !
DESCRIPTION:https://www.valcoop.fr/cest-officiel-vous-pouvez-venir-au-nouveau-magasin/
URL:https://www.valcoop.fr/agenda/valcoop-supermarche-cooperatif-valmaubue/
LOCATION:Coopérative VALCOOP 15 Rue du Village\, 77185 Lognes\, 15 rue du village\, LOGNES\, 77185
ATTACH;FMTTYPE=image/png:https://www.valcoop.fr/wp-content/uploads/2023/05/BIENVENU-CHEZ-VOUS.png
END:VEVENT
END:VCALENDAR